BEGIN:VCALENDAR
VERSION:2.0
PRODID:-//Sessay Parish Council//Meeting Calendar//EN
CALSCALE:GREGORIAN
METHOD:PUBLISH
BEGIN:VEVENT
UID:70474-20250717@sessayparishcouncil.gov.uk
DTSTAMP:20260419T225957Z
DTSTART;VALUE=DATE:20250717
DTEND;VALUE=DATE:20250718
SUMMARY:Council Meeting &#8211\\; 17 July 2025
DESCRIPTION:Full Council Meeting\nView details: https://sessayparishcouncil.gov.uk/meetings/council-meeting-17-july-2025/
URL:https://sessayparishcouncil.gov.uk/meetings/council-meeting-17-july-2025/
END:VEVENT
END:VCALENDAR
