BEGIN:VCALENDAR
VERSION:2.0
PRODID:-//Sessay Parish Council//Meeting Calendar//EN
CALSCALE:GREGORIAN
METHOD:PUBLISH
BEGIN:VEVENT
UID:70480-20250410@sessayparishcouncil.gov.uk
DTSTAMP:20260420T003228Z
DTSTART;VALUE=DATE:20250410
DTEND;VALUE=DATE:20250411
SUMMARY:Council Meeting &#8211\\; 10 April 2025
DESCRIPTION:Full Council Meeting\nView details: https://sessayparishcouncil.gov.uk/meetings/council-meeting-10-april-2025/
URL:https://sessayparishcouncil.gov.uk/meetings/council-meeting-10-april-2025/
END:VEVENT
END:VCALENDAR
