BEGIN:VCALENDAR
VERSION:2.0
PRODID:-//Sessay Parish Council//Meeting Calendar//EN
CALSCALE:GREGORIAN
METHOD:PUBLISH
BEGIN:VEVENT
UID:70509-20210101@sessayparishcouncil.gov.uk
DTSTAMP:20260420T003228Z
DTSTART;VALUE=DATE:20210101
DTEND;VALUE=DATE:20210102
SUMMARY:Council Meetings &#8211\\; 2021
DESCRIPTION:Full Council Meeting\nView details: https://sessayparishcouncil.gov.uk/meetings/council-meetings-2021/
URL:https://sessayparishcouncil.gov.uk/meetings/council-meetings-2021/
END:VEVENT
END:VCALENDAR
