BEGIN:VCALENDAR
VERSION:2.0
PRODID:-//Sessay Parish Council//Meeting Calendar//EN
CALSCALE:GREGORIAN
METHOD:PUBLISH
BEGIN:VEVENT
UID:70550-20210526@sessayparishcouncil.gov.uk
DTSTAMP:20260420T003203Z
DTSTART;VALUE=DATE:20210526
DTEND;VALUE=DATE:20210527
SUMMARY:Annual Parish Council Meeting – 26 May 2021
DESCRIPTION:Annual Parish Meeting\nView details: https://sessayparishcouncil.gov.uk/meetings/annual-parish-council-meeting-26-may-2021/
URL:https://sessayparishcouncil.gov.uk/meetings/annual-parish-council-meeting-26-may-2021/
END:VEVENT
END:VCALENDAR
