BEGIN:VCALENDAR
VERSION:2.0
PRODID:-//Sessay Parish Council//Meeting Calendar//EN
CALSCALE:GREGORIAN
METHOD:PUBLISH
BEGIN:VEVENT
UID:70576-20220518@sessayparishcouncil.gov.uk
DTSTAMP:20260420T021056Z
DTSTART;VALUE=DATE:20220518
DTEND;VALUE=DATE:20220519
SUMMARY:Annual Parish Council Meeting – 18 May 2022
DESCRIPTION:Annual Parish Meeting\nView details: https://sessayparishcouncil.gov.uk/meetings/annual-parish-council-meeting-18-may-2022/
URL:https://sessayparishcouncil.gov.uk/meetings/annual-parish-council-meeting-18-may-2022/
END:VEVENT
END:VCALENDAR
