BEGIN:VCALENDAR
VERSION:2.0
PRODID:-//Sessay Parish Council//Meeting Calendar//EN
CALSCALE:GREGORIAN
METHOD:PUBLISH
BEGIN:VEVENT
UID:70610-20251124@sessayparishcouncil.gov.uk
DTSTAMP:20260419T230035Z
DTSTART;VALUE=DATE:20251124
DTEND;VALUE=DATE:20251125
SUMMARY:Meeting 27th November 2025 at 6.45
DESCRIPTION:Full Council Meeting\nView details: https://sessayparishcouncil.gov.uk/meetings/meeting-27th-november-2025-at-6-45/
URL:https://sessayparishcouncil.gov.uk/meetings/meeting-27th-november-2025-at-6-45/
END:VEVENT
END:VCALENDAR
