BEGIN:VCALENDAR
VERSION:2.0
PRODID:-//Sessay Parish Council//Meeting Calendar//EN
CALSCALE:GREGORIAN
METHOD:PUBLISH
BEGIN:VEVENT
UID:70612-20260122@sessayparishcouncil.gov.uk
DTSTAMP:20260419T230035Z
DTSTART;VALUE=DATE:20260122
DTEND;VALUE=DATE:20260123
SUMMARY:Meeting 22nd January 2026
DESCRIPTION:Full Council Meeting\nView details: https://sessayparishcouncil.gov.uk/meetings/meeting-22nd-january-2026/
URL:https://sessayparishcouncil.gov.uk/meetings/meeting-22nd-january-2026/
END:VEVENT
END:VCALENDAR
