BEGIN:VCALENDAR
VERSION:2.0
PRODID:-//Sessay Parish Council//Meeting Calendar//EN
CALSCALE:GREGORIAN
METHOD:PUBLISH
BEGIN:VEVENT
UID:70615-20260319@sessayparishcouncil.gov.uk
DTSTAMP:20260419T230115Z
DTSTART;VALUE=DATE:20260319
DTEND;VALUE=DATE:20260320
SUMMARY:Meeting 19th March 2026
DESCRIPTION:Full Council Meeting\nView details: https://sessayparishcouncil.gov.uk/meetings/meeting-19th-march-2026/
URL:https://sessayparishcouncil.gov.uk/meetings/meeting-19th-march-2026/
END:VEVENT
END:VCALENDAR
